BEGIN:VCALENDAR
VERSION:2.0
PRODID:-//eventon.com NONSGML v1.0//EN
CALSCALE:GREGORIAN
METHOD:PUBLISH
BEGIN:VEVENT
UID:69e88a1b4a70d
DTSTAMP:20260422T084307Z
DTSTART:20260411
DTEND:20260412
LOCATION:Q77 Corso Brescia 77
SUMMARY:Freaks and Comedy
DESCRIPTION:Freaks and Comedy &#8211; Q77 a Torino Cabaret e clownerie al T
 eatro Q77 Vertigo 11 Aprile 2026 ore 21\, 30 (ore 20\, 00 per chi acquista 
 l&#8217;apericena) Cabaret e clownerie al Teatro Q77 Vertigo: una rivoluzio
 ne clown per il pubblico adulto Risate contagiose\,  comicità surreale e a
 tmosfera circense arrivano a Torino con[..]\nhttps://www.turinoise.it/event
 s/freaks-and-comedy/
URL:https://www.turinoise.it/events/freaks-and-comedy/
END:VEVENT
END:VCALENDAR