BEGIN:VCALENDAR
VERSION:2.0
PRODID:-//eventon.com NONSGML v1.0//EN
CALSCALE:GREGORIAN
METHOD:PUBLISH
BEGIN:VEVENT
UID:69e764fe28832
DTSTAMP:20260421T115230Z
DTSTART:20260329
DTEND:20260330
LOCATION:Teatro Superga Via Superga 44 Nichelino TO
SUMMARY:Rigoletto - Lirica a corte
DESCRIPTION:Rigoletto &#8211; Lirica a corte &#8211; Teatro Superga Stagion
 e 2025/26 29 marzo 2026 Teatro Superga di Giuseppe Verdi Rigoletto (Venezi
 a\,  La Fenice\,  1851) è il primo capitolo della “trilogia popolare” 
 di Verdi: l’opera mette al centro dell’attenzione uno ‘sconfitto’:
  un buffone di corte\,  gobbo e deforme\,  di cui si raccontano i timori\,
   le[..]\nhttps://www.turinoise.it/events/rigoletto-lirica-a-corte/
URL:https://www.turinoise.it/events/rigoletto-lirica-a-corte/
END:VEVENT
END:VCALENDAR