BEGIN:VCALENDAR
VERSION:2.0
PRODID:-//eventon.com NONSGML v1.0//EN
CALSCALE:GREGORIAN
METHOD:PUBLISH
BEGIN:VEVENT
UID:69e7789ae8597
DTSTAMP:20260421T131610Z
DTSTART:20260322
DTEND:20260323
LOCATION:Teatro Superga Via Superga 44 Nichelino TO
SUMMARY:LOVE MUSICAL - MUSICAL A CORTE
DESCRIPTION:LOVE MUSICAL &#8211; MUSICAL A CORTE &#8211; Teatro Superga Sta
 gione 2025/26 22 marzo 2026 Teatro Superga Questa sera si canta d’Amore. 
 Anzi\,  si canta dell’avvicendarsi dei vari tipi d’Amore a seconda del
 le stagioni della nostra vita. È quindi un viaggio sentimentale\,  quello
  che si propone\,  attraverso le più belle canzoni dal repertorio[..]\nhtt
 ps://www.turinoise.it/events/love-musical-musical-a-corte/
URL:https://www.turinoise.it/events/love-musical-musical-a-corte/
END:VEVENT
END:VCALENDAR