BEGIN:VCALENDAR
VERSION:2.0
PRODID:-//eventon.com NONSGML v1.0//EN
CALSCALE:GREGORIAN
METHOD:PUBLISH
BEGIN:VEVENT
UID:69e7670b78782
DTSTAMP:20260421T120115Z
DTSTART:20260320
DTEND:20260321
LOCATION:Teatro Superga Via Superga 44 Nichelino TO
SUMMARY:CUORO - Inciampi per sentimenti altissimi
DESCRIPTION:CUORO &#8211; Inciampi per sentimenti altissimi &#8211; Teatro 
 Superga Stagione 2025/26 20 marzo 2026 Teatro Superga Sdraiata su un divano
  Gioia Salvatori passa in rassegna se stessa e i propri rovelli interiori\,
   indaga i desideri\,  rinarra storie d’amore e i loro inevitabili disfac
 imenti\,  esplora canzonette e modelli femminili e per[..]\nhttps://www.tur
 inoise.it/events/cuoro-inciampi-per-sentimenti-altissimi/
URL:https://www.turinoise.it/events/cuoro-inciampi-per-sentimenti-altissimi/
END:VEVENT
END:VCALENDAR