BEGIN:VCALENDAR
VERSION:2.0
PRODID:-//eventon.com NONSGML v1.0//EN
CALSCALE:GREGORIAN
METHOD:PUBLISH
BEGIN:VEVENT
UID:69e780c6bf620
DTSTAMP:20260421T135102Z
DTSTART:20260308
DTEND:20260309
LOCATION:Teatro Superga Via Superga 44 Nichelino TO
SUMMARY:Tipico maschio italiano
DESCRIPTION:Tipico maschio italiano &#8211; Teatro Superga Stagione 2025/26
  8 marzo 2026 Teatro Superga Compagnia Divago Come si può parlare\,  oggi\
 ,  da uomo\,  di amore\,  di sesso\,  di consenso\,  di rifiuto\,  di gelos
 ia\,  di manipolazione\,  di violenza\,  ma anche di autenticità\,  di emo
 zioni\,  di libertà in modo credibile? TIPICO MASCHIO ITALIANO[..]\nhttps:
 //www.turinoise.it/events/tipico-maschio-italiano/
URL:https://www.turinoise.it/events/tipico-maschio-italiano/
END:VEVENT
END:VCALENDAR