BEGIN:VCALENDAR
VERSION:2.0
PRODID:-//eventon.com NONSGML v1.0//EN
CALSCALE:GREGORIAN
METHOD:PUBLISH
BEGIN:VEVENT
UID:69e767659e283
DTSTAMP:20260421T120245Z
DTSTART:20260307
DTEND:20260308
LOCATION:Teatro Superga Via Superga 44 Nichelino TO
SUMMARY:Spirito allegro
DESCRIPTION:Spirito allegro &#8211; Teatro Superga Stagione 2025/26 7 marzo
  2026 Teatro Superga Compagnia Divago Charles\,  un famoso scrittore ingles
 e sposato in seconde nozze con Ruth\,  invita a casa sua una coppia di amic
 i e la medium Madame Arcati\,  per fare una seduta spiritica al fine di con
 oscere il mondo dell’occulto\, [..]\nhttps://www.turinoise.it/events/spir
 ito-allegro/
URL:https://www.turinoise.it/events/spirito-allegro/
END:VEVENT
END:VCALENDAR