BEGIN:VCALENDAR
VERSION:2.0
PRODID:-//eventon.com NONSGML v1.0//EN
CALSCALE:GREGORIAN
METHOD:PUBLISH
BEGIN:VEVENT
UID:69e7ef9c567f4
DTSTAMP:20260421T214356Z
DTSTART:20260523
DTEND:20260524
LOCATION:Teatro Cardinal Massaia Via Sospello 32
SUMMARY:Moschette
DESCRIPTION:Moschette &#8211; Teatro Cardinal Massaia Stagione 2025/26 23/0
 5/26 – h 20.45 Uno spettacolo che fa parte della Stagione 2025-2026 del T
 eatro Cardinal Massaia\,  che anche quest&#8217;anno propone un’offerta r
 icca e variegata. Spettacolo Liberamente ispirato a “I tre moschiettieri
  di A. Dumas. Contrasto prende in prestito alcuni dei personaggi del roma
 nzo[..]\nhttps://www.turinoise.it/events/moschette/
URL:https://www.turinoise.it/events/moschette/
END:VEVENT
END:VCALENDAR