BEGIN:VCALENDAR
VERSION:2.0
PRODID:-//eventon.com NONSGML v1.0//EN
CALSCALE:GREGORIAN
METHOD:PUBLISH
BEGIN:VEVENT
UID:69e7ef7e3c819
DTSTAMP:20260421T214326Z
DTSTART:20260502
DTEND:20260503
LOCATION:Teatro Cardinal Massaia Via Sospello 32
SUMMARY:Delitto - Il musical
DESCRIPTION:Delitto &#8211; Il musical &#8211; Teatro Cardinal Massaia Stag
 ione 2025/26 02/05/26 – h 20.45 03/05/26 – h 16.30 Uno spettacolo che f
 a parte della Stagione 2025-2026 del Teatro Cardinal Massaia\,  che anche q
 uest&#8217;anno propone un’offerta ricca e variegata. Spettacolo Ispirato
  al gioco da tavolo Cluedo\,  torna Delitto\,  il primo musical[..]\nhttps:
 //www.turinoise.it/events/delitto-il-musical/
URL:https://www.turinoise.it/events/delitto-il-musical/
END:VEVENT
END:VCALENDAR