BEGIN:VCALENDAR
VERSION:2.0
PRODID:-//eventon.com NONSGML v1.0//EN
CALSCALE:GREGORIAN
METHOD:PUBLISH
BEGIN:VEVENT
UID:69e753f3d3873
DTSTAMP:20260421T103947Z
DTSTART:20260314
DTEND:20260315
LOCATION:Teatro Cardinal Massaia Via Sospello 32
SUMMARY:And the winner is...
DESCRIPTION:And the winner is&#8230; &#8211; Teatro Cardinal Massaia Stagio
 ne 2025/26 14/03/2026 – h 20.45 Uno spettacolo che fa parte della Stagion
 e 2025-2026 del Teatro Cardinal Massaia\,  che anche quest&#8217;anno propo
 ne un’offerta ricca e variegata. E a proposito di Oscar&#8230; Spettacolo
  Una serata-evento in musica tra grandi emozioni da cinema. Chi[..]\nhttps:
 //www.turinoise.it/events/and-the-winner-is/
URL:https://www.turinoise.it/events/and-the-winner-is/
END:VEVENT
END:VCALENDAR