BEGIN:VCALENDAR
VERSION:2.0
PRODID:-//eventon.com NONSGML v1.0//EN
CALSCALE:GREGORIAN
METHOD:PUBLISH
BEGIN:VEVENT
UID:69e7544df2167
DTSTAMP:20260421T104117Z
DTSTART:20251128
DTEND:20251129
LOCATION:Teatro Cardinal Massaia Via Sospello 32
SUMMARY:Voci\,  femminile plurale
DESCRIPTION:Voci\,  femminile plurale &#8211; Teatro Cardinal Massaia Stagi
 one 2025/26 28/11/2025 Uno spettacolo che fa parte della Stagione 2025-2026
  del Teatro Cardinal Massaia\,  che anche quest&#8217;anno propone un’off
 erta ricca e variegata. Spettacolo Lo spettacolo vede la messa in scena di 
 12 monologhi di personaggi femminili che hanno fatto la storia. 12[..]\nhtt
 ps://www.turinoise.it/events/voci-femminile-plurale/
URL:https://www.turinoise.it/events/voci-femminile-plurale/
END:VEVENT
END:VCALENDAR