BEGIN:VCALENDAR
VERSION:2.0
PRODID:-//eventon.com NONSGML v1.0//EN
CALSCALE:GREGORIAN
METHOD:PUBLISH
BEGIN:VEVENT
UID:69e7790d41fac
DTSTAMP:20260421T131805Z
DTSTART:20260524
DTEND:20260525
LOCATION:Evento Diffuso Torino
SUMMARY:I riflessi delle bolle di sapone
DESCRIPTION:I riflessi delle bolle di sapone &#8211; Orchestra Filarmonica 
 di Torino 24/05/26Â oreÂ 10:00Â Prove di lavoro Via Baltea 3 25/05/26Â oreÂ
  18:30Â Prove generali Teatro Vittoria 26/05/26Â oreÂ 21:00Â Conservatorio 
 Verdi di Torino Orchestra Filarmonica di Torino La nuova Stagione concertis
 tica dell&#8217;Orchestra Filarmonica di Torino 2025/26 &#8220;One way Memo
 ries&#8221; Ã¨ un viaggio musicale nella memoria condivisa\,  attraverso la
 [..]\nhttps://www.turinoise.it/events/i-riflessi-delle-bolle-di-sapone/
URL:https://www.turinoise.it/events/i-riflessi-delle-bolle-di-sapone/
END:VEVENT
END:VCALENDAR