BEGIN:VCALENDAR
VERSION:2.0
PRODID:-//eventon.com NONSGML v1.0//EN
CALSCALE:GREGORIAN
METHOD:PUBLISH
BEGIN:VEVENT
UID:69e75452465be
DTSTAMP:20260421T104122Z
DTSTART:20260301
DTEND:20260302
LOCATION:Evento Diffuso Torino
SUMMARY:Prendimi per mano
DESCRIPTION:Prendimi per mano &#8211; Orchestra Filarmonica di Torino 1/03/
 26 ore 10:00 Prove di lavoro Via Baltea 3 2/03/26 ore 18:30 Prove gen
 erali Teatro Vittoria 3/03/26 ore 21:00 Conservatorio Verdi di Torino Or
 chestra Filarmonica di Torino La nuova Stagione concertistica dell&#8217;Or
 chestra Filarmonica di Torino 2025/26 &#8220;One way Memories&#8221; è un 
 viaggio musicale nella memoria condivisa\,  attraverso la musica e insieme[
 ..]\nhttps://www.turinoise.it/events/prendimi-per-mano/
URL:https://www.turinoise.it/events/prendimi-per-mano/
END:VEVENT
END:VCALENDAR