BEGIN:VCALENDAR
VERSION:2.0
PRODID:-//eventon.com NONSGML v1.0//EN
CALSCALE:GREGORIAN
METHOD:PUBLISH
BEGIN:VEVENT
UID:69e73ec465a31
DTSTAMP:20260421T090924Z
DTSTART:20251015
DTEND:20251016
LOCATION:Teatro Colosseo Via Madama Cristina 71
SUMMARY:Niccolò Fabi
DESCRIPTION:Niccolò Fabi &#8211; Teatro Colosseo a Torino Libertà negli o
 cchi 📅 Quando: 15 OTT 25 Dopo il grande successo al Circo Massimo e l&#8
 217;emozionante esperienza live del progetto “Discoverland”\,  Niccolò
  Fabi torna dal vivo con il suo ricco repertorio e il nuovo album di inedit
 i “Libertà negli occhi”. Un viaggio[..]\nhttps://www.turinoise.it/even
 ts/niccolo-fabi/
URL:https://www.turinoise.it/events/niccolo-fabi/
END:VEVENT
END:VCALENDAR