BEGIN:VCALENDAR
VERSION:2.0
PRODID:-//eventon.com NONSGML v1.0//EN
CALSCALE:GREGORIAN
METHOD:PUBLISH
BEGIN:VEVENT
UID:69e73e69db973
DTSTAMP:20260421T090753Z
DTSTART:20251011
DTEND:20251012
LOCATION:Teatro Colosseo Via Madama Cristina 71
SUMMARY:Serena Rossi
DESCRIPTION:Serena Rossi &#8211; Teatro Colosseo a Torino SereNata a Napoli
  📅 Quando: 11 e 12 OTT 25 Questo spettacolo teatrale ideato da Serena Ro
 ssi – attrice\,  cantante e conduttrice che dagli esordi in Un posto al 
 sole è diventata una delle più amate in Italia &#8211; è una dedica all
 a sua Napoli[..]\nhttps://www.turinoise.it/events/serena-rossi/
URL:https://www.turinoise.it/events/serena-rossi/
END:VEVENT
END:VCALENDAR