BEGIN:VCALENDAR
VERSION:2.0
PRODID:-//eventon.com NONSGML v1.0//EN
CALSCALE:GREGORIAN
METHOD:PUBLISH
BEGIN:VEVENT
UID:69e7f0dee583f
DTSTAMP:20260421T214918Z
DTSTART:20260527
DTEND:20260528
LOCATION:Teatro Gioiello Via Cristoforo Colombo\,  31\,  10129 Torino
SUMMARY:Alice non canta De André
DESCRIPTION:Alice non canta De André &#8211; Teatro Gioiello Torino Stagio
 ne 2025/26 Teatro Gioiello 📅 Quando: 27 maggio 2026 Alice entra in scena
  con un cognome che non si può sussurrare. Di quelli che arrivano prima di
  te\,  che sollevano aspettative\,  che creano equivoci. Tutti si aspettano
  quel qualcosa. Ma Alice[..]\nhttps://www.turinoise.it/events/alice-non-can
 ta-de-andre/
URL:https://www.turinoise.it/events/alice-non-canta-de-andre/
END:VEVENT
END:VCALENDAR