BEGIN:VCALENDAR
VERSION:2.0
PRODID:-//eventon.com NONSGML v1.0//EN
CALSCALE:GREGORIAN
METHOD:PUBLISH
BEGIN:VEVENT
UID:69e7f16fd6a64
DTSTAMP:20260421T215143Z
DTSTART:20260522
DTEND:20260523
LOCATION:Teatro Gioiello Via Cristoforo Colombo\,  31\,  10129 Torino
SUMMARY:Una vacanza coi fiocchi
DESCRIPTION:Una vacanza coi fiocchi &#8211; Teatro Gioiello Torino Stagione
  2025/26 Teatro Gioiello 📅 Quando: dal 22 al 24 maggio 2026 Un sessanten
 ne professore di etruscologia e la moglie psicologa decidono di trascorrere
  una vacanza in un tranquillo e isolato chalet di montagna. Il tentativo di
  vivere un weekend romantico serve[..]\nhttps://www.turinoise.it/events/una
 -vacanza-coi-fiocchi/
URL:https://www.turinoise.it/events/una-vacanza-coi-fiocchi/
END:VEVENT
END:VCALENDAR