BEGIN:VCALENDAR
VERSION:2.0
PRODID:-//eventon.com NONSGML v1.0//EN
CALSCALE:GREGORIAN
METHOD:PUBLISH
BEGIN:VEVENT
UID:69e7ee6bc0d8f
DTSTAMP:20260421T213851Z
DTSTART:20260515
DTEND:20260516
LOCATION:Teatro Gioiello Via Cristoforo Colombo\,  31\,  10129 Torino
SUMMARY:L'amore ci vede doppio
DESCRIPTION:L&#8217;amore ci vede doppio &#8211; Teatro Gioiello Torino Sta
 gione 2025/26 Teatro Gioiello 📅 Quando: dal 15 al 17 maggio 2026 Quante 
 possibilità ci sono che due persone che si incrociano per caso possano inn
 amorarsi? Emma è una donna decisa\,  intraprendente\,  con una situazione 
 sentimentale volutamente instabile\,  al suo quotidiano gin[..]\nhttps://ww
 w.turinoise.it/events/lamore-ci-vede-doppio/
URL:https://www.turinoise.it/events/lamore-ci-vede-doppio/
END:VEVENT
END:VCALENDAR