BEGIN:VCALENDAR
VERSION:2.0
PRODID:-//eventon.com NONSGML v1.0//EN
CALSCALE:GREGORIAN
METHOD:PUBLISH
BEGIN:VEVENT
UID:69e7ee6bc0d2f
DTSTAMP:20260421T213851Z
DTSTART:20260513
DTEND:20260514
LOCATION:Teatro Gioiello Via Cristoforo Colombo\,  31\,  10129 Torino
SUMMARY:Inimitabile
DESCRIPTION:Inimitabile – Ubaldo Pantani &#8211; Teatro Gioiello Torino S
 tagione 2025/26 Teatro Gioiello 📅 Quando: 13 maggio 2026 “Che personag
 gio!”. Quante volte lo diciamo di fronte a qualcuno che ci sembra fuori d
 al comune? Lo ripetiamo tra amici\,  lo raccontiamo a casa\,  lo condividia
 mo al lavoro: “Ero a fare l’aperitivo e[..]\nhttps://www.turinoise.it/e
 vents/inimitabile/
URL:https://www.turinoise.it/events/inimitabile/
END:VEVENT
END:VCALENDAR