BEGIN:VCALENDAR
VERSION:2.0
PRODID:-//eventon.com NONSGML v1.0//EN
CALSCALE:GREGORIAN
METHOD:PUBLISH
BEGIN:VEVENT
UID:69e7f131328ff
DTSTAMP:20260421T215041Z
DTSTART:20260505
DTEND:20260506
LOCATION:Teatro Gioiello Via Cristoforo Colombo\,  31\,  10129 Torino
SUMMARY:Borderlife\,  la nostra vita dall’altra parte
DESCRIPTION:Borderlife\,  la nostra vita dall’altra parte &#8211; Teatro 
 Gioiello Torino Stagione 2025/26 Teatro Gioiello 📅 Quando: 5 maggio 2026
  Da un’idea di Francesca Merloni e con la regia di Nicoletta Robello\,  
 Borderlife\,  la nostra vita dall’altra parte porta in scena i personagg
 i dell’omonimo romanzo di Dorit Rabinyan\,  che affronta con delicatezza 
 e[..]\nhttps://www.turinoise.it/events/borderlife-la-nostra-vita-dallaltra-
 parte/
URL:https://www.turinoise.it/events/borderlife-la-nostra-vita-dallaltra-parte/
END:VEVENT
END:VCALENDAR