BEGIN:VCALENDAR
VERSION:2.0
PRODID:-//eventon.com NONSGML v1.0//EN
CALSCALE:GREGORIAN
METHOD:PUBLISH
BEGIN:VEVENT
UID:69e73e80dc36b
DTSTAMP:20260421T090816Z
DTSTART:20260206
DTEND:20260207
LOCATION:Teatro Gioiello Via Cristoforo Colombo\,  31\,  10129 Torino
SUMMARY:Ditegli sempre di sì
DESCRIPTION:Ditegli sempre di sì &#8211; Teatro Gioiello Torino Stagione 2
 025/26 Teatro Gioiello 📅 Quando: dal 6 all&#8217;8 febbraio 2026 Nel qua
 rantesimo anniversario della scomparsa di Eduardo De Filippo\,  un giovane 
 attore al suo debutto registico rende omaggio al Maestro con Ditegli sempr
 e di sì\,  commedia dal meccanismo comico perfetto e al[..]\nhttps://www.t
 urinoise.it/events/ditegli-sempre-di-si/
URL:https://www.turinoise.it/events/ditegli-sempre-di-si/
END:VEVENT
END:VCALENDAR