BEGIN:VCALENDAR
VERSION:2.0
PRODID:-//eventon.com NONSGML v1.0//EN
CALSCALE:GREGORIAN
METHOD:PUBLISH
BEGIN:VEVENT
UID:69e73ef119614
DTSTAMP:20260421T091009Z
DTSTART:20251126
DTEND:20251127
LOCATION:Teatro Gioiello Via Cristoforo Colombo\,  31\,  10129 Torino
SUMMARY:Io Marte\,  tu Mercole
DESCRIPTION:Io Marte\,  tu Mercole &#8211; Teatro Gioiello Torino Stagione 
 2025/26 Teatro Gioiello 📅 Quando: 26 novembre 2025 Gianluca “Scintilla
 ” Fubelli e Federica Camba si raccontano al pubblico\,  portando sul palc
 o la loro relazione reale\,  fatta di complicità\,  differenze\,  melodie 
 e tante risate; lei imprevedibile\,  lui esplosivo\,  lei profonda\,  lui d
 iretto\, [..]\nhttps://www.turinoise.it/events/io-marte-tu-mercole/
URL:https://www.turinoise.it/events/io-marte-tu-mercole/
END:VEVENT
END:VCALENDAR