BEGIN:VCALENDAR
VERSION:2.0
PRODID:-//eventon.com NONSGML v1.0//EN
CALSCALE:GREGORIAN
METHOD:PUBLISH
BEGIN:VEVENT
UID:69e7ed78e4e3a
DTSTAMP:20260421T213448Z
DTSTART:20260529
DTEND:20260530
LOCATION:Teatro Alfieri Piazza Solferino 4
SUMMARY:Lupin
DESCRIPTION:Lupin &#8211; Teatro Alfieri Torino Stagione 2025/26 Teatro Alf
 ieri 📅 Quando: dal 29 al 31 maggio 2026 Dopo il successo de La Famiglia
  Addams\,  la Compagnia della Corona torna in scena con Lupin\,  il Musica
 l\,  prima grande produzione italiana interamente dedicata al ladro gentilu
 omo più celebre di sempre. Chi è davvero Arsène[..]\nhttps://www.turinoi
 se.it/events/lupin/
URL:https://www.turinoise.it/events/lupin/
END:VEVENT
END:VCALENDAR