BEGIN:VCALENDAR
VERSION:2.0
PRODID:-//eventon.com NONSGML v1.0//EN
CALSCALE:GREGORIAN
METHOD:PUBLISH
BEGIN:VEVENT
UID:69e7f0de7c603
DTSTAMP:20260421T214918Z
DTSTART:20260521
DTEND:20260522
LOCATION:Teatro Alfieri Piazza Solferino 4
SUMMARY:Fiore di cactus
DESCRIPTION:Fiore di cactus &#8211; Teatro Alfieri Torino Stagione 2025/26 
 Teatro Alfieri 📅 Quando: dal 21 al 24 maggio 2026 Commedia brillante di 
 grande successo\,  Fiore di cactus intreccia equivoci e gag in un ritmo s
 errato e divertente. Portata al cinema nel 1969 con Walter Matthau\,  Ingri
 d Bergman e Goldie Hawn\,  l’opera è[..]\nhttps://www.turinoise.it/event
 s/fiore-di-cactus/
URL:https://www.turinoise.it/events/fiore-di-cactus/
END:VEVENT
END:VCALENDAR