BEGIN:VCALENDAR
VERSION:2.0
PRODID:-//eventon.com NONSGML v1.0//EN
CALSCALE:GREGORIAN
METHOD:PUBLISH
BEGIN:VEVENT
UID:69e7ee6c28634
DTSTAMP:20260421T213852Z
DTSTART:20260515
DTEND:20260516
LOCATION:Teatro Alfieri Piazza Solferino 4
SUMMARY:Aladin
DESCRIPTION:Aladin &#8211; Teatro Alfieri Torino Stagione 2025/26 Teatro Al
 fieri ðŸ“… Quando: dal 15 al 17 maggio 2026 Tra i palazzi e i vicoli dellâ€
 ™antica Bagdad sono destinate a intrecciarsi le vite di due persone molto d
 iverse tra loro. Da una parte lâ€™unica erede al trono\,  la giovane e ribe
 lle principessa[..]\nhttps://www.turinoise.it/events/aladin/
URL:https://www.turinoise.it/events/aladin/
END:VEVENT
END:VCALENDAR