BEGIN:VCALENDAR
VERSION:2.0
PRODID:-//eventon.com NONSGML v1.0//EN
CALSCALE:GREGORIAN
METHOD:PUBLISH
BEGIN:VEVENT
UID:69e751d983cd8
DTSTAMP:20260421T103049Z
DTSTART:20260306
DTEND:20260307
LOCATION:Teatro Alfieri Piazza Solferino 4
SUMMARY:Trappola per topi
DESCRIPTION:Trappola per topi &#8211; Teatro Alfieri Torino Stagione 2025/2
 6 Teatro Alfieri 📅 Quando: dal 6 all&#8217;8 marzo 2026 «Il 25 novembre
  1952 all’Ambassadors Theatre di Londra andava in scena per la prima volt
 a Trappola per topi di Agatha Christie. Da allora\,  per 70 anni ininterr
 ottamente\,  il sipario si è alzato su questa[..]\nhttps://www.turinoise.i
 t/events/trappola-per-topi-alfieri/
URL:https://www.turinoise.it/events/trappola-per-topi-alfieri/
END:VEVENT
END:VCALENDAR