BEGIN:VCALENDAR
VERSION:2.0
PRODID:-//eventon.com NONSGML v1.0//EN
CALSCALE:GREGORIAN
METHOD:PUBLISH
BEGIN:VEVENT
UID:69e745d1c6ac4
DTSTAMP:20260421T093929Z
DTSTART:20250603
DTEND:20250604
LOCATION:Mausoleo della Bela Rosin Str. Castello di Mirafiori\,  148/7\,  10135 Torino TO
SUMMARY:C’era una volta la pellicola
DESCRIPTION:C’era una volta la pellicola 2025 Film in Bianco&amp;Nero e a
  Colori come non li avete mai visti! 📅 Quando: 3 giugno – 26 giugno 20
 25 Si tratta della proiezione all’aperto presso il Mausoleo della Bela Ro
 sin a Torino di film in pellicola 16 mm e Super8 di film d’autore[..]\nht
 tps://www.turinoise.it/events/cera-una-volta-la-pellicola/
URL:https://www.turinoise.it/events/cera-una-volta-la-pellicola/
END:VEVENT
END:VCALENDAR