BEGIN:VCALENDAR
VERSION:2.0
PRODID:-//eventon.com NONSGML v1.0//EN
CALSCALE:GREGORIAN
METHOD:PUBLISH
BEGIN:VEVENT
UID:69e73f679c13e
DTSTAMP:20260421T091207Z
DTSTART:20250201
DTEND:20250202
LOCATION:Teatro Cardinal Massaia Via Sospello 32
SUMMARY:Bene mio e core mio
DESCRIPTION:Bene mio e core mio &#8211; Teatro Cardinal Massaia Stagione 20
 24/25 Sabato 1 febbraio – ore 21.00 Uno spettacolo che fa parte della Sta
 gione 2024-2025 del Teatro Cardinal Massaia\,  che anche quest&#8217;anno p
 ropone un’offerta ricca e variegata. Spettacolo I disegni d’indipendenz
 a di Lorenzo\,  professore e restauratore che desidera sposarsi\,  vengono[
 ..]\nhttps://www.turinoise.it/events/bene-mio-e-core-mio/
URL:https://www.turinoise.it/events/bene-mio-e-core-mio/
END:VEVENT
END:VCALENDAR