BEGIN:VCALENDAR
VERSION:2.0
PRODID:-//eventon.com NONSGML v1.0//EN
CALSCALE:GREGORIAN
METHOD:PUBLISH
BEGIN:VEVENT
UID:69e73e80dc5e3
DTSTAMP:20260421T090816Z
DTSTART:20240904
DTEND:20240905
LOCATION:Piazza Castello Piazza Castello\,  torino
SUMMARY:Lindy on the Road
DESCRIPTION:Lindy on the Road a Torino Da mercoledÃ¬ 21 agosto a mercoledÃ¬
  11 settembre social dance in Piazza Castello Torna lâ€™Estate e con lei lâ
 €™evento di Social Dance settimanale a cui Ã¨ impossibile resistere: IL LIN
 DY ON THE ROAD! &gt;&gt; DOVE? Piazza Castello &#8211; Monumento a Emanuele
  Filiberto Duca D&#8217;Aosta[..]\nhttps://www.turinoise.it/events/lindy-on
 -the-road/var/ri-2.l-L1
URL:https://www.turinoise.it/events/lindy-on-the-road/var/ri-2.l-L1
END:VEVENT
END:VCALENDAR