BEGIN:VCALENDAR
VERSION:2.0
PRODID:-//eventon.com NONSGML v1.0//EN
CALSCALE:GREGORIAN
METHOD:PUBLISH
BEGIN:VEVENT
UID:69e73f295b11e
DTSTAMP:20260421T091105Z
DTSTART:20250214T112600Z
DTEND:20250216T112600Z
LOCATION:Teatro Gioiello Via Cristoforo Colombo\,  31\,  10129 Torino
SUMMARY:Il mondo di Barbie & Wonderboys
DESCRIPTION:Il mondo di Barbie &amp; Wonderboys &#8211; Teatro Gioiello Tor
 ino Stagione 2024/25 Teatro Gioiello ROMA CITY BALLET COMPANY DAL 14 AL 16 
 FEBBRAIO 2025 IL MONDO DI BARBIE di Luciano Cannito Il mondo di Barbie è 
 un balletto frizzante e surreale: Barbie e Ken mano nella mano in un viaggi
 o attraverso[..]\nhttps://www.turinoise.it/events/il-mondo-di-barbie-wonder
 boys/
URL:https://www.turinoise.it/events/il-mondo-di-barbie-wonderboys/
END:VEVENT
END:VCALENDAR