BEGIN:VCALENDAR
VERSION:2.0
PRODID:-//eventon.com NONSGML v1.0//EN
CALSCALE:GREGORIAN
METHOD:PUBLISH
BEGIN:VEVENT
UID:69e73ec12931b
DTSTAMP:20260421T090921Z
DTSTART:20250205T112600Z
DTEND:20250205T112600Z
LOCATION:Teatro Gioiello Via Cristoforo Colombo\,  31\,  10129 Torino
SUMMARY:Zeitgeist
DESCRIPTION:Zeitgeist &#8211; Teatro Gioiello Torino Stagione 2024/25 Teatr
 o Gioiello LO SPIRITO DEI TEMPI…COMICI! PINO E GLI ANTICORPI 5 FEBBRAIO 2
 025 Zeitgeist è una girandola di numeri comici e personaggi che si avvice
 ndano sul palco senza soluzione di continuità a rappresentare i vari modi 
 di far ridere. Dal cabaret al clown passando[..]\nhttps://www.turinoise.it/
 events/zeitgeist/
URL:https://www.turinoise.it/events/zeitgeist/
END:VEVENT
END:VCALENDAR