BEGIN:VCALENDAR
VERSION:2.0
PRODID:-//eventon.com NONSGML v1.0//EN
CALSCALE:GREGORIAN
METHOD:PUBLISH
BEGIN:VEVENT
UID:69e7517d4a5eb
DTSTAMP:20260421T102917Z
DTSTART:20260326
DTEND:20260327
LOCATION:Teatro Alfieri Piazza Solferino 4
SUMMARY:Rocky
DESCRIPTION:Rocky &#8211; Teatro Alfieri Torino Stagione 2025/26 Teatro Alf
 ieri 📅 Quando: dal 26 al 29 marzo 2026 Per la prima volta in Italia\,  i
 l celebre film premio Oscar diventa un musical mozzafiato che unisce azione
 \,  poesia e grandi numeri musicali. Rocky Balboa\,  umile pugile di Filade
 lfia\,  ottiene l’occasione della vita[..]\nhttps://www.turinoise.it/even
 ts/rocky/
URL:https://www.turinoise.it/events/rocky/
END:VEVENT
END:VCALENDAR