BEGIN:VCALENDAR
VERSION:2.0
PRODID:-//eventon.com NONSGML v1.0//EN
CALSCALE:GREGORIAN
METHOD:PUBLISH
BEGIN:VEVENT
UID:69e6c07927a87
DTSTAMP:20260421T001033Z
DTSTART:20250725
DTEND:20250726
LOCATION:Mausoleo della Bela Rosin Str. Castello di Mirafiori\,  148/7\,  10135 Torino TO
SUMMARY:Cinemainfamiglia: Mausoleo della Bela Rosin
DESCRIPTION:Cinema in famiglia 2025 a Torino &#8211; Mausoleo della Bela Ro
 sin Proiezioni di film d&#8217;autore\,  di animazione e commedie di succes
 so\,  destinate a un grande pubblico e in particolare a famiglie e bambini 
 del territorio. Luglio e Agosto 2025 ore 21.30 &#8211; ingresso gratuito Ci
 nema in Famiglia è una rassegna cinematografica all’aperto[..]\nhttps:
 //www.turinoise.it/events/cinemainfamiglia-mausoleo-della-bela-rosin/
URL:https://www.turinoise.it/events/cinemainfamiglia-mausoleo-della-bela-rosin/
END:VEVENT
END:VCALENDAR