BEGIN:VCALENDAR
VERSION:2.0
PRODID:-//eventon.com NONSGML v1.0//EN
CALSCALE:GREGORIAN
METHOD:PUBLISH
BEGIN:VEVENT
UID:69e5f632c6acf
DTSTAMP:20260420T094730Z
DTSTART:20250608
DTEND:20250609
LOCATION:
SUMMARY:Cinema Revolution
DESCRIPTION:Cinema Revolution a Torino &#8211; Il cinema a pochi euro Che s
 pettacolo l&#8217;estate con i film italiani ed europei a 3.50 euro 8 giugn
 o &#8211; 25 settembre 2025 Oltre a “CINEMA IN FESTA”\,  arriva &#8220;
 CINEMA REVOLUTION – Che Spettacolo L’Estate&#8221;\,  che trasforma i m
 esi più caldi dell’anno in una stagione[..]\nhttps://www.turinoise.it/ev
 ents/cinema-revolution/
URL:https://www.turinoise.it/events/cinema-revolution/
END:VEVENT
END:VCALENDAR