BEGIN:VCALENDAR
VERSION:2.0
PRODID:-//eventon.com NONSGML v1.0//EN
CALSCALE:GREGORIAN
METHOD:PUBLISH
BEGIN:VEVENT
UID:69e66da1a4bb0
DTSTAMP:20260420T181705Z
DTSTART:20240204T070000Z
DTEND:20240204T170000Z
LOCATION:Cortile del Maglio Via Vittorio Andreis\,  18\,  10152 Torino TO\,  Italia
SUMMARY:StraGulp
DESCRIPTION:StraGulp a Torino &#8211; la mostra mercato del fumetto 4 febbr
 aio 2024 Cortile del Maglio &#8211; 2 edizione Mostra mercato del fumetto a
 l Cortile del Maglio di Torino ad ingresso libero. L&#8217;vento è dedicat
 o agli appassionati del fumetto per hobby o per dedizione. Passione e cultu
 ra\,  Domenica 4 Febbraio 2024\, [..]\nhttps://www.turinoise.it/events/stra
 gulp/
URL:https://www.turinoise.it/events/stragulp/
END:VEVENT
END:VCALENDAR