BEGIN:VCALENDAR
VERSION:2.0
PRODID:-//eventon.com NONSGML v1.0//EN
CALSCALE:GREGORIAN
METHOD:PUBLISH
BEGIN:VEVENT
UID:69e913db02206
DTSTAMP:20260422T183051Z
DTSTART:20250215
DTEND:20250216
LOCATION:Teatro Colosseo Via Madama Cristina 71
SUMMARY:Fabio Concato
DESCRIPTION:Fabio Concato &#8211; Teatro Colosseo a Torino 15 febbraio 202
 5 Fabio Concato torna al Teatro Colosseo con il suo nuovo progetto musicale
 . Una delle più belle certezze della musica d’autore italiana che nel co
 rso degli anni ha saputo ritagliarsi uno spazio importante per le sue canzo
 ni\,  narrando in modo molto personale[..]\nhttps://www.turinoise.it/events
 /fabio-concato/
URL:https://www.turinoise.it/events/fabio-concato/
END:VEVENT
END:VCALENDAR