BEGIN:VCALENDAR
VERSION:2.0
PRODID:-//eventon.com NONSGML v1.0//EN
CALSCALE:GREGORIAN
METHOD:PUBLISH
BEGIN:VEVENT
UID:69e751d9dbf99
DTSTAMP:20260421T103049Z
DTSTART:20270308
DTEND:20270309
LOCATION:Evento Diffuso Torino
SUMMARY:Giornata internazionale della donna
DESCRIPTION:Giornata internazionale della donna a Torino Ogni anno questa r
 icorrenza ritorna in data 8 marzo: è la Giornata Internazionale della Donn
 a\,  che ha come obiettivo quello di sensibilizzare l&#8217;opinione pubbli
 ca sulle condizioni di lavoro delle donne e di portare avanti la lotta cont
 ro le diseguaglianze sociali. A Torino molte sono[..]\nhttps://www.turinois
 e.it/events/festa-della-donna/
URL:https://www.turinoise.it/events/festa-della-donna/
END:VEVENT
END:VCALENDAR