BEGIN:VCALENDAR
VERSION:2.0
PRODID:-//eventon.com NONSGML v1.0//EN
CALSCALE:GREGORIAN
METHOD:PUBLISH
BEGIN:VEVENT
UID:69e7534250664
DTSTAMP:20260421T103650Z
DTSTART:20260320
DTEND:20260321
LOCATION:Evento Diffuso Torino
SUMMARY:NOWRUZ : dove mangiare persiano
DESCRIPTION:Dove mangiare persiano a Torino per il capodanno iraniano Il ca
 podanno iraniano si festeggia il 21 marzo e si tratta sicuramente di una de
 lle più importanti festività persiane. Questa è chiaramente l&#8217;occa
 sione per quelli di voi che ci stanno leggendo che non hanno ancora fatto i
  buoni propositi a marzo[..]\nhttps://www.turinoise.it/events/dove-mangiare
 -persiano-per-il-capodanno-iraniano/
URL:https://www.turinoise.it/events/dove-mangiare-persiano-per-il-capodanno-iraniano/
END:VEVENT
END:VCALENDAR