BEGIN:VCALENDAR
VERSION:2.0
PRODID:-//eventon.com NONSGML v1.0//EN
CALSCALE:GREGORIAN
METHOD:PUBLISH
BEGIN:VEVENT
UID:69e4d0a7791cd
DTSTAMP:20260419T125503Z
DTSTART:20241004T193000Z
DTEND:20241004T215900Z
LOCATION:CAB 41 Via Giuseppe e Antonio Carle 41
SUMMARY:Cab 41 show
DESCRIPTION:Cab 41 show &#8211; Cab41 Torino Il Cab 41 show è lo spettacol
 o di punta del Cab 41\,  un varietà comico sempre diverso con i migliori a
 rtisti torinesi. Cabaret\,  musica\,  magia e improvvisazione sono gli elem
 enti principali di questo show di sicuro impatto per una serata di divertim
 ento e allegria.[..]\nhttps://www.turinoise.it/events/cab-41-show/
URL:https://www.turinoise.it/events/cab-41-show/
END:VEVENT
END:VCALENDAR