BEGIN:VCALENDAR
VERSION:2.0
PRODID:-//eventon.com NONSGML v1.0//EN
CALSCALE:GREGORIAN
METHOD:PUBLISH
BEGIN:VEVENT
UID:69e73e819839f
DTSTAMP:20260421T090817Z
DTSTART:20211209
DTEND:20211210
LOCATION:Lavanderia a Vapore Corso Pastrengo 51
SUMMARY:Tributo a Nina Simone a lume di candela
DESCRIPTION:Candlelight Jazz: Tributo a Nina Simone a lume di candela 9 dic
 embre 2021 20 gennaio 2022 Riscopri le leggende del jazz a lume di candela!
  Vivi un&#8217;esperienza unica con &#8220;Candlelight Jazz&#8220;: questo 
 concerto a tema jazz esclusivo si terrà nell&#8217;incantevole Lavanderia 
 a Vapore di Torino. Lasciati trasportare dagli accordi e[..]\nhttps://www.t
 urinoise.it/events/tributo-nina-simone/
URL:https://www.turinoise.it/events/tributo-nina-simone/
END:VEVENT
END:VCALENDAR