BEGIN:VCALENDAR
VERSION:2.0
PRODID:-//eventon.com NONSGML v1.0//EN
CALSCALE:GREGORIAN
METHOD:PUBLISH
BEGIN:VEVENT
UID:69e5f7e83a29b
DTSTAMP:20260420T095448Z
DTSTART:20250810
DTEND:20250811
LOCATION:INFINI.TO - Planetario di Torino Via Osservatorio\,  30\,  Pino Torinese TO
SUMMARY:Pioggia di stelle cadenti
DESCRIPTION:Le Perseidi &#8211; Pioggia di stelle cadenti &#8211; San Loren
 zo 2025 Il picco e come vederle a Torino (anche se fa brutto) Anche quest&#
 8217;anno\,  come tutti gli anni\,  le Perseidi tornano a tenerci compagnia
  durante il mese di agosto per farci vedere il meraviglioso fenomeno delle
  &#8220;stelle cadenti&#8221;. La notte di[..]\nhttps://www.turinoise.it/ev
 ents/pioggia-di-stelle-cadenti/
URL:https://www.turinoise.it/events/pioggia-di-stelle-cadenti/
END:VEVENT
END:VCALENDAR