BEGIN:VCALENDAR
VERSION:2.0
PRODID:-//eventon.com NONSGML v1.0//EN
CALSCALE:GREGORIAN
METHOD:PUBLISH
BEGIN:VEVENT
UID:69e751d983dbd
DTSTAMP:20260421T103049Z
DTSTART:20260306
DTEND:20260307
LOCATION:Strade della città Torino
SUMMARY:Just The Woman I Am
DESCRIPTION:Just The Woman I Am 2026 a Torino SAVE THE DATE: 6-7-8 marzo 20
 26 Il momento clou di Just The Woman I Am 2025 è giunto con l’ormai trad
 izionale appuntamento con la corsa/camminata di 5 km. I partecipanti verran
 no accolti da un ristoro finale in piazza San Carlo offerto da[..]\nhttps:/
 /www.turinoise.it/events/just-the-woman-i-am/
URL:https://www.turinoise.it/events/just-the-woman-i-am/
END:VEVENT
END:VCALENDAR