BEGIN:VCALENDAR
VERSION:2.0
PRODID:-//eventon.com NONSGML v1.0//EN
CALSCALE:GREGORIAN
METHOD:PUBLISH
BEGIN:VEVENT
UID:69e73e6435edb
DTSTAMP:20260421T090748Z
DTSTART:20261112
DTEND:20261113
LOCATION:Lingotto Fiere via Nizza 280
SUMMARY:Restructura
DESCRIPTION:Restructura a Lingotto Fiere a Torino 14-14 novembre 2026 Restr
 uctura è il salone leader del Nord-Ovest rivolto a professionisti e a priv
 ati su riqualificazione\,  recupero e ristrutturazione edilizia. Appuntamen
 to annuale imperdibile\,   ritorna e mette in dialogo le aziende leader de
 l settore con i professionisti del settore e con il grande[..]\nhttps://www
 .turinoise.it/events/restructura/
URL:https://www.turinoise.it/events/restructura/
END:VEVENT
END:VCALENDAR