BEGIN:VCALENDAR
VERSION:2.0
PRODID:-//eventon.com NONSGML v1.0//EN
CALSCALE:GREGORIAN
METHOD:PUBLISH
BEGIN:VEVENT
UID:69e60e077eb86
DTSTAMP:20260420T112911Z
DTSTART:20260703
DTEND:20260704
LOCATION:Parco Dora Corso Mortara angolo Via Orvieto Torino
SUMMARY:Kappa FuturFestival
DESCRIPTION:Kappa FuturFestival a Torino The Future is in Torino 3-4-5 lugl
 io 2026 Parco Dora Torna al Parco Dora il Kappa FuturFestival di Torino\,  
 festival che nasce nel dicembre 2008 all&#8217;Oval Lingotto come nuovo for
 mat dance\,  indoor per festeggiare il Capodanno. Da molti anni è ormai un
  appuntamento fisso al Parco[..]\nhttps://www.turinoise.it/events/kappa-fut
 urfestival/
URL:https://www.turinoise.it/events/kappa-futurfestival/
END:VEVENT
END:VCALENDAR